BEGIN:VCALENDAR
VERSION:2.0
PRODID:-//ChamberMaster//Event Calendar 2.0//EN
METHOD:PUBLISH
X-PUBLISHED-TTL:P3D
REFRESH-INTERVAL:P3D
CALSCALE:GREGORIAN
BEGIN:VEVENT
DTSTART:20260528T000000Z
DTEND:20260528T023000Z
X-MICROSOFT-CDO-ALLDAYEVENT:FALSE
SUMMARY:San Rafael: Home Is Where The Art Is
DESCRIPTION:The San Rafael Leadership Institute Presents:\n\n  SAN RAFAEL : HOME IS WHERE THE ART IS\n\nOriginal works created by Artist lived experience of homelessness and housing insecurity.  Each piece reflects a personal stories
X-ALT-DESC;FMTTYPE=text/html:<div style="text-align: center\;"><span style="font-size:14px\;"><span style="font-family:arial\;">The San Rafael Leadership Institute Presents:</span></span></div>\n\n<div style="text-align: center\;"><span style="font-size:12px\;"><span style="font-family:arial\;">&nbsp\; SAN RAFAEL : HOME IS WHERE THE ART IS<br />\nOriginal works created by Artist lived experience of homelessness and housing insecurity.&nbsp\; Each piece reflects a personal stories</span></span><br />\n&nbsp\;</div>\n
LOCATION:Smith Rafael Film Center 1118 4th Street San Rafael\, CA 94901
UID:e.1344.41287
SEQUENCE:3
DTSTAMP:20260423T035048Z
URL:https://business.srchamber.com/events/details/san-rafael-home-is-where-the-art-is-41287
END:VEVENT

END:VCALENDAR
