BEGIN:VCALENDAR
VERSION:2.0
PRODID:-//ChamberMaster//Event Calendar 2.0//EN
METHOD:PUBLISH
X-PUBLISHED-TTL:P3D
REFRESH-INTERVAL:P3D
CALSCALE:GREGORIAN
BEGIN:VEVENT
DTSTART:20260306T003000Z
DTEND:20260306T013000Z
X-MICROSOFT-CDO-ALLDAYEVENT:FALSE
SUMMARY:Ribbon Cutting- F45 Training San Rafael
DESCRIPTION:You're invited to help us celebrate an exciting new chapter for F45 San Rafael!\n\nAfter an impressive renovation\, F45 San Rafael has transformed their space into an even more dynamic\, high-energy\, and results-driven fitness experience. With upgraded equipment\, refreshed interiors\, and an enhanced training environment\, they are ready to welcome members and the community back to a stronger-than-ever studio.\n\nJoin us for an official Ribbon Cutting Ceremony as we commemorate this milestone and showcase the newly renovated space.\n\nCome tour the updated studio\, meet the incredible training team\, connect with fellow community members\, and help us celebrate the continued growth of local business in San Rafael.\n\nWe look forward to seeing you there as we cut the ribbon and kick off this exciting new era.
X-ALT-DESC;FMTTYPE=text/html:<div style="text-align: justify\;">\n<p data-olk-copy-source="MessageBody" font-size:="" helvetica="" segoe="" style="color: rgb(36\, 36\, 36)\; text-align: center\;" ui="" web="" west=""><span style="font-size:18px\;"><span style="font-family:arial\;"><strong>You&rsquo\;re invited to help us celebrate an exciting new chapter for F45 San Rafael!</strong></span></span></p>\n\n<p font-size:="" helvetica="" segoe="" style="color: rgb(36\, 36\, 36)\; text-align: center\;" ui="" web="" west=""><span style="font-size:18px\;"><span style="font-family:arial\;"><strong>After an impressive renovation\, F45 San Rafael has transformed their space into an even more dynamic\, high-energy\, and results-driven fitness experience. With upgraded equipment\, refreshed interiors\, and an enhanced training environment\, they are ready to welcome members and the community back to a stronger-than-ever studio.</strong></span></span></p>\n\n<p font-size:="" helvetica="" segoe="" style="color: rgb(36\, 36\, 36)\; text-align: center\;" ui="" web="" west=""><span style="font-size:18px\;"><span style="font-family:arial\;"><strong><span style="border: 0px\; font-style: inherit\; font-variant: inherit\; font-weight: inherit\; font-stretch: inherit\; line-height: inherit\; font-optical-sizing: inherit\; font-size-adjust: inherit\; font-kerning: inherit\; font-feature-settings: inherit\; font-variation-settings: inherit\; font-language-override: inherit\; margin: 0px\; padding: 0px\; vertical-align: baseline\; color: inherit\;">Join us for an official Ribbon Cutting Ceremony as we commemorate this milestone and showcase the newly renovated space.</span></strong></span></span></p>\n\n<p dir="auto" font-size:="" helvetica="" segoe="" style="color: rgb(36\, 36\, 36)\; text-align: center\;" ui="" web="" west=""><span style="font-size:18px\;"><span style="font-family:arial\;"><strong><span style="border: 0px\; font-style: inherit\; font-variant: inherit\; font-weight: inherit\; font-stretch: inherit\; line-height: inherit\; font-optical-sizing: inherit\; font-size-adjust: inherit\; font-kerning: inherit\; font-feature-settings: inherit\; font-variation-settings: inherit\; font-language-override: inherit\; margin: 0px\; padding: 0px\; vertical-align: baseline\; color: inherit\;">Come tour the updated studio\, meet the incredible training team\, connect with fellow community members\, and help us celebrate the continued growth of local business in San Rafael.</span></strong></span></span></p>\n\n<p dir="auto" font-size:="" helvetica="" segoe="" style="color: rgb(36\, 36\, 36)\; text-align: center\;" ui="" web="" west=""><span style="font-size:18px\;"><span style="font-family:arial\;"><strong>We look forward to seeing you there as we cut the ribbon and kick off this exciting new era.</strong></span></span></p>\n</div>\n
LOCATION:239 3rd Street San Rafael\, CA 94901
UID:e.1344.41259
SEQUENCE:3
DTSTAMP:20260421T082315Z
URL:https://business.srchamber.com/events/details/ribbon-cutting-f45-training-san-rafael-41259
END:VEVENT

END:VCALENDAR
