BEGIN:VCALENDAR
VERSION:2.0
PRODID:-//ChamberMaster//Event Calendar 2.0//EN
METHOD:PUBLISH
X-PUBLISHED-TTL:P3D
REFRESH-INTERVAL:P3D
CALSCALE:GREGORIAN
BEGIN:VEVENT
DTSTART:20250303T200000Z
DTEND:20250303T210000Z
X-MICROSOFT-CDO-ALLDAYEVENT:FALSE
SUMMARY:Mid-Day Meet-up
DESCRIPTION:Join us for a conversation with Daniel Cooperman\, the City of San Rafael's Community Services Division Director\, for an update on all things homelessness in San Rafael including the city's strategy on moving unhoused neighbors from the Mahon Creek encampment onto a path to housing. Daniel joins the City of San Rafael with over 15 years of experience in the non-profit and local government sectors. With a passion for making a difference and a strong track record in public service\, he is committed to addressing homelessness in the city.
X-ALT-DESC;FMTTYPE=text/html:<p><span style="font-size:14px\;"><span style="font-family:arial\;"><span style="color: rgb(67\, 76\, 84)\;">Join us for a conversation with Daniel Cooperman\, the City of San Rafael&#39\;s Community Services Division Director\, for an update on all things homelessness in San Rafael including the city&#39\;s strategy on moving unhoused neighbors from the Mahon Creek encampment onto a path to housing. </span><span style="color: rgb(67\, 67\, 67)\;">Daniel joins the City of San Rafael with over 15 years of experience in the non-profit and local government sectors. With a passion for making a difference and a strong track record in public service\, he is committed to addressing homelessness in the city.</span></span></span><span style="font-size:\n10.5pt\;font-family:&quot\;Arial&quot\;\,sans-serif\;color:#434C54"><o:p></o:p></span></p>\n\n<p><span style="font-family:&quot\;Calibri&quot\;\,sans-serif\;color:black"><o:p></o:p></span></p>\n
LOCATION:San Rafael Chamber of Commerce 817 Mission Avenue San Rafael
UID:e.1344.39364
SEQUENCE:3
DTSTAMP:20260424T234318Z
URL:https://business.srchamber.com/events/details/mid-day-meet-up-39364
END:VEVENT

END:VCALENDAR
