BEGIN:VCALENDAR
VERSION:2.0
PRODID:-//ChamberMaster//Event Calendar 2.0//EN
METHOD:PUBLISH
X-PUBLISHED-TTL:P3D
REFRESH-INTERVAL:P3D
CALSCALE:GREGORIAN
BEGIN:VEVENT
DTSTART:20260114T170000Z
DTEND:20260114T180000Z
X-MICROSOFT-CDO-ALLDAYEVENT:FALSE
SUMMARY:Lifestyle Home Loan* (LHL) Realtor Certification Course
DESCRIPTION:Learn how you can sell more homes by offering the Lifestyle Home Loan* to your clients 62+. Imagine showing someone how to purchase their Dream Home with as little as 60-70% down and never having to pay a monthly mortgage payment! You will learn:   A hidden opportunity most real estate professionals are missing and what it means to you\, your clients and your business   How to sell more homes and dramatically increase your commissions   10 things you should know about the Lifestyle Home Loan   Why traditional financing or paying cash may sabotage your client's retirement   16+ Frequently Asked Questions   How to create a competitive advantage over other real estate professionals that boomers see immediately   Why 73 million boomers aren't using your services and how to change their mind *The Lifestyle Home Loan is a Home Equity Conversion Mortgage for Purchase.
X-ALT-DESC;FMTTYPE=text/html:<span style="color:rgb(0\, 0\, 0)\; font-family:segoe ui\,frutiger\,frutiger linotype\,dejavu sans\,helvetica neue\,arial\,sans-serif\,videojs\; font-size:16px">Learn how you can sell more homes by offering the Lifestyle Home Loan* to your clients 62+. Imagine showing someone how to purchase their Dream Home with as little as 60-70% down and never having to pay a monthly mortgage payment! You will learn: &bull\; A hidden opportunity most real estate professionals are missing and what it means to you\, your clients and your business &bull\; How to sell more homes and dramatically increase your commissions &bull\; 10 things you should know about the Lifestyle Home Loan &bull\; Why traditional financing or paying cash may sabotage your client&rsquo\;s retirement &bull\; 16+ Frequently Asked Questions &bull\; How to create a competitive advantage over other real estate professionals that boomers see immediately &bull\; Why 73 million boomers aren&rsquo\;t using your services and how to change their mind *The Lifestyle Home Loan is a Home Equity Conversion Mortgage for Purchase.</span>
LOCATION:Online
UID:e.1344.40727
SEQUENCE:3
DTSTAMP:20260424T100310Z
URL:https://business.srchamber.com/events/details/lifestyle-home-loan-lhl-realtor-certification-course-40727
END:VEVENT

END:VCALENDAR
