BEGIN:VCALENDAR
VERSION:2.0
PRODID:-//ChamberMaster//Event Calendar 2.0//EN
METHOD:PUBLISH
X-PUBLISHED-TTL:P3D
REFRESH-INTERVAL:P3D
CALSCALE:GREGORIAN
BEGIN:VEVENT
DTSTART:20241205T013000Z
DTEND:20241205T033000Z
X-MICROSOFT-CDO-ALLDAYEVENT:FALSE
SUMMARY:Holiday Mixer and Milestone Member Recognition
DESCRIPTION:Join us for our Holiday Mixer at Avant Space in San Rafael.  We will be recognizing this year's Chamber Milestone Members (members who have been with us for 20\, 25\, 30 + years).  \n\n\n\nEnjoy networking\, light bites from Classic Culinaire and get into the holiday spirit. Step inside our photo booth - hosted by Garrett Burdick\, Coldwell Banker.
X-ALT-DESC;FMTTYPE=text/html:Join us for our Holiday Mixer at Avant Space in San Rafael.&nbsp\; We will be recognizing this year&#39\;s Chamber Milestone Members (members who have been with us for 20\, 25\, 30 + years).&nbsp\;&nbsp\;<br />\n<br />\nEnjoy networking\, light bites from Classic Culinaire and get into the holiday spirit. Step inside our photo booth - hosted by Garrett Burdick\, Coldwell Banker.&nbsp\;
LOCATION:Avant Space 835 Fifth Avenue San Rafael
UID:e.1344.39343
SEQUENCE:3
DTSTAMP:20260425T033756Z
URL:https://business.srchamber.com/events/details/holiday-mixer-and-milestone-member-recognition-39343
END:VEVENT

END:VCALENDAR
