BEGIN:VCALENDAR
VERSION:2.0
PRODID:-//ChamberMaster//Event Calendar 2.0//EN
METHOD:PUBLISH
X-PUBLISHED-TTL:P3D
REFRESH-INTERVAL:P3D
CALSCALE:GREGORIAN
BEGIN:VEVENT
DTSTART:20260311T003000Z
DTEND:20260311T023000Z
X-MICROSOFT-CDO-ALLDAYEVENT:FALSE
SUMMARY:Hello March Linked in Local Marin COunty Mixer
DESCRIPTION:Linked in Local Mixer
X-ALT-DESC;FMTTYPE=text/html:Linked in Local Mixer
LOCATION:San Rafael Elks Lodge 1312 Mission Ave \, San Rafael Ca 94901
UID:e.1344.41263
SEQUENCE:3
DTSTAMP:20260424T061147Z
URL:https://business.srchamber.com/events/details/hello-march-linked-in-local-marin-county-mixer-41263
END:VEVENT

END:VCALENDAR
