BEGIN:VCALENDAR
VERSION:2.0
PRODID:-//ChamberMaster//Event Calendar 2.0//EN
METHOD:PUBLISH
X-PUBLISHED-TTL:P3D
REFRESH-INTERVAL:P3D
CALSCALE:GREGORIAN
BEGIN:VEVENT
DTSTART:20260521T123000Z
DTEND:20260522T033000Z
X-MICROSOFT-CDO-ALLDAYEVENT:FALSE
SUMMARY:Fish n' Fowl Feast\, Rotary Club of San Rafael
DESCRIPTION:The Rotary Club of San Rafael's annual Fish n' Fowl Feast will help fund teacher mini-grants that bring ideas to life in K 8 classrooms. Enjoy an evening of live jazz\, wine & beer\, appetizers\, dinner\, auctions\, fund-a-need\, and a fun paper plane contest. Family-style dinner featuring mixed seafood platters\, duck & hens\, vegetables\, pasta\, plus dessert buffet.
X-ALT-DESC;FMTTYPE=text/html:The Rotary Club of San Rafael&#39\;s annual <a href="https://rotaryclubofsanrafael.regfox.com/fish-n-fowl-feast-2026">Fish n&#39\; Fowl Feast</a> will help fund teacher mini-grants that bring ideas to life in K&ndash\;8 classrooms. Enjoy an evening of&nbsp\;live jazz\, wine &amp\; beer\, appetizers\, dinner\, auctions\, fund-a-need\, and a fun paper plane contest. Family-style dinner featuring mixed seafood platters\, duck &amp\; hens\, vegetables\, pasta\, plus dessert buffet.&nbsp\;
LOCATION:San Rafael Airport 400 Smith Ranch Rd San Rafael\, CA 94903
UID:e.1344.41285
SEQUENCE:3
DTSTAMP:20260423T075924Z
URL:https://business.srchamber.com/events/details/fish-n-fowl-feast-rotary-club-of-san-rafael-41285
END:VEVENT

END:VCALENDAR
