BEGIN:VCALENDAR
VERSION:2.0
PRODID:-//ChamberMaster//Event Calendar 2.0//EN
METHOD:PUBLISH
X-PUBLISHED-TTL:P3D
REFRESH-INTERVAL:P3D
CALSCALE:GREGORIAN
BEGIN:VEVENT
DTSTART:20260503T210000Z
DTEND:20260503T220000Z
X-MICROSOFT-CDO-ALLDAYEVENT:FALSE
SUMMARY:elmCATS Recital & Chamber Music Concert
DESCRIPTION:elmCATS Recital & Chamber Music Concert\n\n\nPresented by Enriching Lives Through Music at Throckmorton Theatre\, Mill Valley CA\n\nJoin us for a beautiful afternoon of chamber music and individual performances by our elmCATS\, our most dedicated students.\n\nEnriching Lives through Music (ELM) provides youth with an immersive music education and resources that inspire and empower them to pursue their dreams. Learn more at elmprogram.org
X-ALT-DESC;FMTTYPE=text/html:<div style="background:0px 0px\; border:0px\; padding:0px">\n<h1>elmCATS Recital &amp\; Chamber Music Concert</h1>\n</div>\n\n<p><span style="font-size:12px">Presented by&nbsp\;<a href="https://marinarts.org/organization/enriching-lives-through-music/" style="margin: 0px\; padding: 0px\; border: 0px\; outline: 0px\; background: 0px 0px\; vertical-align: baseline\; min-height: 1px\; min-width: 1px\; text-decoration-line: none\; color: rgb(51\, 51\, 51)\; cursor: pointer\; box-sizing: border-box\; font-style: normal\;">Enriching Lives Through Music</a>&nbsp\;at&nbsp\;<a href="https://marinarts.org/venue/throckmorton-theater/" style="margin: 0px\; padding: 0px\; border: 0px\; outline: 0px\; background: 0px 0px\; vertical-align: baseline\; min-height: 1px\; min-width: 1px\; text-decoration-line: none\; color: rgb(51\, 51\, 51)\; cursor: pointer\; box-sizing: border-box\; font-style: normal\;">Throckmorton Theatre</a><span style="color:rgb(51\, 51\, 51)">\, Mill Valley CA</span></span></p>\n\n<p><span style="font-size:14px">Join us for a beautiful afternoon of chamber music and individual performances by our elmCATS\, our most dedicated students.</span></p>\n\n<p><span style="font-size:14px">Enriching Lives through Music (ELM)&nbsp\;provides youth with an immersive music education and resources that inspire and empower them to pursue their dreams. Learn more at&nbsp\;<a href="https://www.elmprogram.org/" style="margin: 0px\; padding: 0px\; border: 0px\; outline: 0px\; background: 0px 0px\; vertical-align: baseline\; min-height: 1px\; min-width: 1px\; text-decoration-line: none\; color: rgb(242\, 101\, 57)\; cursor: pointer\; box-sizing: border-box\;">elmprogram.org</a></span></p>\n
LOCATION:Throckmorton Theatre at 142 Throckmorton Ave\, Mill Valley CA
UID:e.1344.41283
SEQUENCE:3
DTSTAMP:20260422T203224Z
URL:https://business.srchamber.com/events/details/elmcats-recital-chamber-music-concert-05-03-2026-41283
END:VEVENT

END:VCALENDAR
