BEGIN:VCALENDAR
VERSION:2.0
PRODID:-//ChamberMaster//Event Calendar 2.0//EN
METHOD:PUBLISH
X-PUBLISHED-TTL:P3D
REFRESH-INTERVAL:P3D
CALSCALE:GREGORIAN
BEGIN:VEVENT
DTSTART:20260109T023000Z
DTEND:20260109T040000Z
X-MICROSOFT-CDO-ALLDAYEVENT:FALSE
SUMMARY:Climate Action Workshop: Winter Kickoff Meeting- Thursday Team
DESCRIPTION:Free Online Climate Action Workshops\n\nAre you ready to make a difference? Join Resilient Neighborhoods for an informative and inspiring 5-session workshop designed for Marin homeowners and renters. You will learn: \n\n	Practical tips and strategies to reduce your carbon footprint.\n	The power of individual action and collective impact.\n	How to make informed consumer choices.\n	Simple steps to reduce energy consumption at home.\n	Sustainable transportation options and habits.\n	Eco-friendly food choices and waste reduction techniques.\n	Steps to prepare for climate-related emergencies.\n\nLet's work together to build more sustainable lifestyles and a greener future. Fall online teams start on Thursday\, January 8th\, at 6:30 p.m. or Wednesday\, January 14\, at 4:00 p.m. Sign up today at https://www.resilientneighborhoods.org/sign-up-for-a-team.html .
X-ALT-DESC;FMTTYPE=text/html:<span style="font-size:14px"><span style="font-family:tahoma"><strong>Free Online Climate Action Workshops</strong><br />\n<span style="background-color:transparent\; color:rgb(0\, 0\, 0)">Are you ready to make a difference? Join Resilient Neighborhoods for an informative and inspiring 5-session workshop designed for Marin homeowners and renters. You will learn:&nbsp\;</span></span></span>\n<ul>\n	<li><span style="font-size:14px"><span style="font-family:tahoma"><span style="background-color:transparent">Practical tips and strategies to reduce your carbon footprint.</span></span></span></li>\n	<li><span style="font-size:14px"><span style="font-family:tahoma"><span style="background-color:transparent">The power of individual action and collective impact.</span></span></span></li>\n	<li><span style="font-size:14px"><span style="font-family:tahoma"><span style="background-color:transparent">How to make informed consumer choices.</span></span></span></li>\n	<li><span style="font-size:14px"><span style="font-family:tahoma"><span style="background-color:transparent">Simple steps to reduce energy consumption at home.</span></span></span></li>\n	<li><span style="font-size:14px"><span style="font-family:tahoma"><span style="background-color:transparent">Sustainable transportation options and habits.</span></span></span></li>\n	<li><span style="font-size:14px"><span style="font-family:tahoma"><span style="background-color:transparent">Eco-friendly food choices and waste reduction techniques.</span></span></span></li>\n	<li><span style="font-size:14px"><span style="font-family:tahoma"><span style="background-color:transparent">Steps to prepare for climate-related emergencies.</span></span></span></li>\n</ul>\n<span style="font-size:14px"><span style="font-family:tahoma"><span style="background-color:transparent\; color:rgb(0\, 0\, 0)">Let&#39\;s work together to build more sustainable lifestyles and a greener future. Fall online teams start on </span><strong>Thursday\, January 8th\, at 6:30 p.m. </strong><span style="background-color:transparent\; color:rgb(0\, 0\, 0)">or </span><strong>Wednesday\, January 14\, at 4:00 p.m.</strong><span style="background-color:transparent\; color:rgb(0\, 0\, 0)"> Sign up today at&nbsp\;</span></span></span><span style="font-family:tahoma\; font-size:14px">https://www.resilientneighborhoods.org/sign-up-for-a-team.html .</span>
LOCATION:Online Zoom Meeting
UID:e.1344.40722
SEQUENCE:3
DTSTAMP:20260424T083719Z
URL:https://business.srchamber.com/events/details/climate-action-workshop-winter-kickoff-meeting-thursday-team-40722
END:VEVENT

END:VCALENDAR
