BEGIN:VCALENDAR
VERSION:2.0
PRODID:-//ChamberMaster//Event Calendar 2.0//EN
METHOD:PUBLISH
X-PUBLISHED-TTL:P3D
REFRESH-INTERVAL:P3D
CALSCALE:GREGORIAN
BEGIN:VEVENT
DTSTART:20201009T003000Z
DTEND:20201009T013000Z
X-MICROSOFT-CDO-ALLDAYEVENT:FALSE
SUMMARY:Women's Empowerment Series - An Evening with Dana King
DESCRIPTION:The San Rafael Chamber of Commerce in collaboration with the Women of Industry Committee will be hosting the 2nd  "Women's Empowerment Series" event\, featuring Dana King\, KPIX News Anchor\, turned Artist/Activist.  \n\n \nKing started her art career while working as an anchor at KPIX (CBS 5). She says she always knew she'd retire from broadcast journalism after she turned 50\, because she didn't want to have to "cut and paste" herself to keep up with "society's standards for beauty." When that time neared\, she had an Emmy and two Edward R. Murrow awards under her belt.\n\nA lover of art\, King began pursuing an MFA from San Francisco's Academy of Art University\, where she discovered her love of sculpture. The medium worked well for her\, she says\; she found it to be another way to tell stories and inform the public. Dana is a classical figurative sculptor who creates public monuments of Black Bodies in Bronze.  She studies the strength and resilience of African Americans and creates pieces in clay by hand that are then cast in bronze.\n\nDana prefers sculptures because they take up space and space is power. Sculpture allows us to shape our story and determine how we are remembered.\n\n"I'm still a journalist\, but now my medium is clay\," King said.
X-ALT-DESC;FMTTYPE=text/html:<span style="font-family:verdana\;"><span style="font-size:12px\;">The San Rafael Chamber of Commerce in collaboration with the Women of Industry Committee will be hosting the 2nd&nbsp\; &ldquo\;Women&rsquo\;s Empowerment Series&quot\; event\, featuring Dana King\, KPIX News Anchor\, turned Artist/Activist.&nbsp\;&nbsp\;</span></span><br />\n&nbsp\;\n<p><span style="font-family:verdana\;"><span style="font-size:12px\;">King started her art career while working as an&nbsp\;<a href="http://sanfrancisco.cbslocal.com/2012/12/05/dana-king-announces-departure-from-cbs-5/" rel="noopener" target="_blank">anchor at KPIX (CBS 5).</a>&nbsp\;She says she always knew she&#39\;d retire from broadcast journalism after she turned 50\, because she didn&#39\;t want to have to &quot\;cut and paste&quot\; herself to keep up with &quot\;society&#39\;s standards for beauty.&quot\; When that time neared\, she had an Emmy and two&nbsp\;<a href="https://www.mercurynews.com/2012/12/05/kpix-anchor-dana-king-will-leave-her-post-to-pursue-art-career/" rel="noopener" target="_blank">Edward R. Murrow awards</a>&nbsp\;under her belt.</span></span></p>\n\n<p><span style="font-family:verdana\;"><span style="font-size:12px\;">A lover of art\, King began pursuing an MFA from San Francisco&rsquo\;s Academy of Art University\, where she discovered her love of sculpture. The medium worked well for her\, she says\; she found it to be another way to tell stories and inform the public.&nbsp\;Dana is a classical figurative sculptor who creates public monuments of Black Bodies in Bronze.&nbsp\; She studies the strength and resilience of African Americans and creates pieces in clay by hand that are then cast in bronze.<br />\nDana prefers sculptures because they take up space and space is power. Sculpture allows us to shape our story and determine how we are remembered.</span></span></p>\n\n<p><span style="font-family:verdana\;"><span style="font-size:12px\;">&quot\;I&#39\;m still a journalist\, but now my medium is clay\,&quot\; King said.</span></span></p>\n<br />\n<span style="font-family:verdana\;"><span style="font-size:12px\;">&nbsp\;</span></span>\n\n<h3 style="box-sizing:border-box\;margin:0px auto 1rem\;font-size:29px\;line-height:1.2\;width:773px\;font-family:Tiempos Headline\, serif\;color:rgb(4\, 21\, 26)\;">&nbsp\;</h3>\n
LOCATION:Virtual Event
UID:e.1344.36832
SEQUENCE:3
DTSTAMP:20260420T043937Z
URL:http://business.srchamber.com/events/details/women-s-empowerment-series-an-evening-with-dana-king-36832
END:VEVENT

END:VCALENDAR
