BEGIN:VCALENDAR
VERSION:2.0
PRODID:-//ChamberMaster//Event Calendar 2.0//EN
METHOD:PUBLISH
X-PUBLISHED-TTL:P3D
REFRESH-INTERVAL:P3D
CALSCALE:GREGORIAN
BEGIN:VEVENT
DTSTART:20160730T200000Z
DTEND:20160731T043000Z
X-MICROSOFT-CDO-ALLDAYEVENT:FALSE
SUMMARY:San Rafael Sunset Criterium
DESCRIPTION:For more information on the San Rafael Sunset Criterium\, please click here.
X-ALT-DESC;FMTTYPE=text/html:<div style="text-align: center\;"><br />\n<br />\n<span style="font-size:18px\;">For more information on the San Rafael Sunset Criterium\, please click <a href="http://sanrafaelsunset.squarespace.com/" target="_blank">here</a>.</span></div>\n
LOCATION:4th & C St. in Downtown San Rafael
UID:e.1344.11757
SEQUENCE:3
DTSTAMP:20260420T223813Z
URL:http://business.srchamber.com/events/details/san-rafael-sunset-criterium-07-30-2016-11757
END:VEVENT

END:VCALENDAR
