BEGIN:VCALENDAR
VERSION:2.0
PRODID:-//ChamberMaster//Event Calendar 2.0//EN
METHOD:PUBLISH
X-PUBLISHED-TTL:P3D
REFRESH-INTERVAL:P3D
CALSCALE:GREGORIAN
BEGIN:VEVENT
DTSTART:20230518T233000Z
DTEND:20230519T003000Z
X-MICROSOFT-CDO-ALLDAYEVENT:FALSE
SUMMARY:San Rafael Leadership Institute Graduation
DESCRIPTION:Please join us in celebrating this years San Rafael Chamber Leadership Institute class as they graduate from the program.  \n\nThey will also present their class project- Make Marin Home- A workforce housing education project.
X-ALT-DESC;FMTTYPE=text/html:Please join us in celebrating this years San Rafael Chamber Leadership Institute class as they graduate from the program. &nbsp\;<br />\nThey will also present their class project- Make Marin Home- A workforce housing education project.<br />\n<br />\n<br />\n&nbsp\;
LOCATION:Embassy Suites San Rafael
UID:e.1344.39148
SEQUENCE:3
DTSTAMP:20260421T201755Z
URL:http://business.srchamber.com/events/details/san-rafael-leadership-institute-graduation-39148
END:VEVENT

END:VCALENDAR
