BEGIN:VCALENDAR
VERSION:2.0
PRODID:-//ChamberMaster//Event Calendar 2.0//EN
METHOD:PUBLISH
X-PUBLISHED-TTL:P3D
REFRESH-INTERVAL:P3D
CALSCALE:GREGORIAN
BEGIN:VEVENT
DTSTART:20160804T020000Z
DTEND:20160804T050000Z
X-MICROSOFT-CDO-ALLDAYEVENT:FALSE
SUMMARY:San Rafael Day at Pacifics Baseball Club
DESCRIPTION:Join us and the City of San Rafael as we root for our hometown team!\n\n\n\nPlease contact Kim for discounted tickets and information.
X-ALT-DESC;FMTTYPE=text/html:<br />\n<br />\nJoin us and the City of San Rafael as we root for our hometown team!<br />\n<br />\nPlease contact <a href="mailto:frontdesk@srchamber.com?subject=San%20Rafael%20Day%20at%20the%20Pacifics">Kim</a>&nbsp\;for discounted tickets and information.
LOCATION:
UID:e.1344.13362
SEQUENCE:3
DTSTAMP:20260420T223947Z
URL:http://business.srchamber.com/events/details/san-rafael-day-at-pacifics-baseball-club-08-03-2016-13362
END:VEVENT

END:VCALENDAR
