BEGIN:VCALENDAR
VERSION:2.0
PRODID:-//ChamberMaster//Event Calendar 2.0//EN
METHOD:PUBLISH
X-PUBLISHED-TTL:P3D
REFRESH-INTERVAL:P3D
CALSCALE:GREGORIAN
BEGIN:VEVENT
DTSTART:20260423T003000Z
DTEND:20260423T020000Z
X-MICROSOFT-CDO-ALLDAYEVENT:FALSE
SUMMARY:Rotary Club of San Rafael Networking Event at Marin MOCA
DESCRIPTION:San Rafael Rotary Club is hosting a networking event at Marin MOCA on Wednesday April 22\, at 5:30 pm to 7pm.  Appetizers and drinks will be provided.  MOCA will be hosting a tour of the exhibits for attendees\, as well. The event is free and open to those interested in joining.\n\nMarin Museum of Contemporary Art (MOCA) 1210 Fifth Avenue\, San Rafael
X-ALT-DESC;FMTTYPE=text/html:San Rafael Rotary Club is hosting a networking event at Marin MOCA on Wednesday&nbsp\;April 22\, at 5:30 pm to 7pm.&nbsp\; Appetizers and drinks will be provided.&nbsp\; MOCA will be hosting a tour of the exhibits&nbsp\;for attendees\, as well. The event is free and open to those interested in joining.<br />\nMarin Museum of Contemporary Art (MOCA) 1210 Fifth Avenue\, San Rafael
LOCATION:Marin Museum of Contemporary Art\, 1210 Fifth Avenue\, San Rafael\, CA 94901
UID:e.1344.41276
SEQUENCE:3
DTSTAMP:20260421T200418Z
URL:http://business.srchamber.com/events/details/rotary-club-of-san-rafael-networking-event-at-marin-moca-41276
END:VEVENT

END:VCALENDAR
