BEGIN:VCALENDAR
VERSION:2.0
PRODID:-//ChamberMaster//Event Calendar 2.0//EN
METHOD:PUBLISH
X-PUBLISHED-TTL:P3D
REFRESH-INTERVAL:P3D
CALSCALE:GREGORIAN
BEGIN:VEVENT
DTSTART:20230506T190000Z
DTEND:20230507T010000Z
X-MICROSOFT-CDO-ALLDAYEVENT:FALSE
SUMMARY:Greg Borrelli's May Madness Car Show
DESCRIPTION:Awesome Cars!\n\n\n\nIt all started in 1986 with a small gathering of Greg Borrelli's Hot Rod friends. Today there are several hundred classic cars and hot rods from the early 1920s to muscle cars of the early '70s.\n\n \n\nAwards & Trophies!\n\n\n\nThere are numerous Trophies handed out to some of the incredible cars. Some examples are the Best Paint Job\, Best of Show\, Mayors Award\, and the Greg Borrelli Memorial Award.\n\n\n\n \n\nRockin' Eats and Drinks!\n\n\n\nWe will have festive foodies\, restaurants serving in their Streetaries and Lagunitas Beers flowing!
X-ALT-DESC;FMTTYPE=text/html:<h2>Awesome Cars!</h2>\n\n<div>\n<div>\n<p>It all started in 1986 with a small gathering of Greg Borrelli&rsquo\;s Hot Rod friends. Today there are several hundred classic cars and hot rods from the early 1920s to muscle cars of the early &rsquo\;70s.<br />\n&nbsp\;</p>\n\n<h2>Awards &amp\; Trophies!</h2>\n\n<div>\n<div>\n<p>There are numerous Trophies handed out to some of the incredible cars. Some examples are the Best Paint Job\, Best of Show\, Mayors Award\, and the Greg Borrelli Memorial Award.<br />\n<br />\n&nbsp\;</p>\n\n<h2>Rockin&#39\; Eats and Drinks!</h2>\n\n<div>\n<div>\n<p>We will have festive foodies\, restaurants serving in their Streetaries and Lagunitas Beers flowing!</p>\n</div>\n</div>\n\n<p><br />\n&nbsp\;</p>\n</div>\n</div>\n</div>\n</div>\n
LOCATION:Downtown San Rafael
UID:e.1344.39120
SEQUENCE:3
DTSTAMP:20260421T201219Z
URL:http://business.srchamber.com/events/details/greg-borrelli-s-may-madness-car-show-39120
END:VEVENT

END:VCALENDAR
