BEGIN:VCALENDAR
VERSION:2.0
PRODID:-//ChamberMaster//Event Calendar 2.0//EN
METHOD:PUBLISH
X-PUBLISHED-TTL:P3D
REFRESH-INTERVAL:P3D
CALSCALE:GREGORIAN
BEGIN:VEVENT
DTSTART:20151029T143000Z
DTEND:20151029T170000Z
X-MICROSOFT-CDO-ALLDAYEVENT:FALSE
SUMMARY:Forecasting the Future Marin Economic Conference 2015
DESCRIPTION:On line registration is now Closed. Please call the Chamber office at 415-454-4163 to register.\n\n\n\nThe 12th Annual Forecasting the Future Marin Economic Conference will be held at the Embassy Suites in San Rafael.\n\n\n\nWatershed 2016 - The program agenda will feature the drought\, elections and the economy.\n\n\n\nMarin Economic Forum's Dr. Robert Eyler will first present the "National and Marin Economic Forecast". He will then moderate our esteemed panel sharing with us the impacts of the drought on their businesses and beyond:\n\n\n\nDavid Gross Heritage Landscapes\n\nJodie Clay Kaiser Permanente\n\nLynn Giacomini Stray Point Reyes Farmstead Cheese Company\n\nKrishna Kumar Marin Municipal Water District \n\n\n\n\n\nOur Keynote Speaker\, Mac Taylor\, California's Legislative Analyst\, will close the event with "Elections 2015-Effects on the Economy into 2016 and Beyond".\n\n\n\nGet Greater Exposure for Your Company- Sponsorship Opportunities \n\nView S\\\n\nReregister
X-ALT-DESC;FMTTYPE=text/html:On line registration is now Closed. Please call the Chamber office at 415-454-4163 to register.<br />\n<br />\n<span style="font-size:14px\;"><span style="font-family: arial\;"><span style="line-height: 18px\;">The 12th Annual Forecasting the Future Marin Economic Conference&nbsp\;will be held at the Embassy Suites in San Rafael.<br />\n<br />\n<strong>Watershed 2016&nbsp\;</strong>- The program agenda will feature the drought\,&nbsp\;elections and the economy.<br />\n<br />\nMarin Economic Forum&#39\;s<em><strong> Dr. Robert Eyler</strong></em> will first present the <u><em>&quot\;National and Marin Economic Forecast&quot\;</em></u>. He will then moderate our esteemed panel sharing with us the impacts of the drought on their businesses and beyond:<br />\n<br />\n<strong>David Gross&nbsp\;</strong><em>Heritage Landscapes</em><br />\n<strong>Jodie Clay</strong>&nbsp\;<em>Kaiser Permanente</em><br />\n<strong>Lynn Giacomini Stray</strong> <em>Point Reyes Farmstead Cheese Company</em><br />\n<strong>Krishna Kumar </strong><em>Marin Municipal Water District&nbsp\;</em><br />\n<br />\n<br />\nOur Keynote Speaker\,<em><strong> Mac Taylor</strong></em>\, <strong><em>California&#39\;s Legislative Analyst</em></strong>\, will close the event with <strong><em>&quot\;Elections 2015-Effects on the Economy into 2016 and Beyond&quot\;</em></strong>.</span></span></span><br />\n<br />\n<span style="font-family:arial\;">Get Greater Exposure for Your Company-&nbsp\;<a href="http://cloud.chambermaster.com/userfiles/UserFiles/chambers/1344/File/Event_Flyers/ForecastingtheFutureRegistrationForm2015.pdf">Sponsorship Opportunities</a></span>&nbsp\;<br />\n<span style="font-size:14px\;"><span style="font-family: arial\;"><span _fck_bookmark="1" style="display: none\;">View S\\<br />\nReregister<br />\n&nbsp\;</span></span></span>
LOCATION:Embassy Suites 101 McInnis Parkway San Rafael
UID:e.1344.5323
SEQUENCE:3
DTSTAMP:20260420T210403Z
URL:http://business.srchamber.com/events/details/forecasting-the-future-marin-economic-conference-2015-10-29-2015-5323
END:VEVENT

END:VCALENDAR
