BEGIN:VCALENDAR
VERSION:2.0
PRODID:-//ChamberMaster//Event Calendar 2.0//EN
METHOD:PUBLISH
X-PUBLISHED-TTL:P3D
REFRESH-INTERVAL:P3D
CALSCALE:GREGORIAN
BEGIN:VEVENT
DTSTART:20160617T184500Z
DTEND:20160617T200000Z
X-MICROSOFT-CDO-ALLDAYEVENT:FALSE
SUMMARY:Chamber Ambassador Power Lunch
DESCRIPTION:Let's Mingle To Put Jingle \n\nIn Your Pocket !!!\n\n\n\nPlease Join Us for the\n\n1st & 2nd YEAR MEMBER POWER LUNCH !!!!\n\n \n\nDate:   June 17\, 2016\n\nTime:   11:45 AM - 1:00 PM \n\nLocation:  Apex Suites\, 1000 4th Street\, 8th Flr.\n\nCost:  $20    Pre-registration is required\n\nAll registration fees for this event are non-refundable due to commitments to our vendors\n\n\n\n\n\nGuest Speaker:    LINDA PALERMO of Sandler Training\n\n \n\nTopic :  Building Your Prospecting Efforts and How LinkedIn Can Help\n\n \n\nDo you have a prospecting plan in place?  Are you maximizing the use of LinkedIn for prospecting?   Join Linda Palermo of Sandler Training to learn more about how you can fire up your prospecting efforts.   Linda is a veteran sales and marketing professional\, speaker\, trainer and coach.  Her experience includes over 20 years in sales and marketing leadership positions in travel technology\, digital marketing and hospitality.   Sandler Training is the global leader in training with over 250 trainers worldwide.\n\n \n\nThis is your opportunity to network with \n\nCHAMBER MEMBERS\, BOARD MEMBERS\, AND AMBASSADORS
X-ALT-DESC;FMTTYPE=text/html:<div style="text-align: center\;"><strong><span style="border:1pt none windowtext\;padding:0in\;background-image:initial\;background-attachment:initial\;background-size:initial\;background-origin:initial\;background-clip:initial\;background-position:initial\;background-repeat:initial\;"><span style="font-family:cambria\,serif\;"><span style="font-size:18pt\;">Let&rsquo\;s</span></span></span></strong>&nbsp\;<strong><span style="border:1pt none windowtext\;padding:0in\;background-image:initial\;background-attachment:initial\;background-size:initial\;background-origin:initial\;background-clip:initial\;background-position:initial\;background-repeat:initial\;"><span style="color:#ff46fa\;"><span style="font-family:cambria\,serif\;"><span style="font-size:30pt\;">Mingle</span></span></span></span></strong>&nbsp\;<strong><span style="border:1pt none windowtext\;padding:0in\;background-image:initial\;background-attachment:initial\;background-size:initial\;background-origin:initial\;background-clip:initial\;background-position:initial\;background-repeat:initial\;"><span style="font-family:cambria\,serif\;"><span style="font-size:18pt\;">To Put</span></span></span></strong>&nbsp\;<strong><span style="border:1pt none windowtext\;padding:0in\;background-image:initial\;background-attachment:initial\;background-size:initial\;background-origin:initial\;background-clip:initial\;background-position:initial\;background-repeat:initial\;"><span style="color:#00f905\;"><span style="font-family:cambria\,serif\;"><span style="font-size:30pt\;">Jingle</span></span></span></span></strong>&nbsp\;<br />\n<strong><span style="border:1pt none windowtext\;padding:0in\;background-image:initial\;background-attachment:initial\;background-size:initial\;background-origin:initial\;background-clip:initial\;background-position:initial\;background-repeat:initial\;"><span style="font-family:cambria\,serif\;"><span style="font-size:18pt\;">In Your Pocket !!!</span></span></span></strong><br />\n<br />\n<strong><em><span style="border:1pt none windowtext\;padding:0in\;background-image:initial\;background-attachment:initial\;background-size:initial\;background-origin:initial\;background-clip:initial\;background-position:initial\;background-repeat:initial\;"><span style="font-family:cambria\,serif\;"><span style="font-size:17pt\;">Please Join Us for the</span></span></span></em></strong><br />\n<strong><span style="border:1pt none windowtext\;padding:0in\;background-image:initial\;background-attachment:initial\;background-size:initial\;background-origin:initial\;background-clip:initial\;background-position:initial\;background-repeat:initial\;"><span style="font-family:cambria\,serif\;"><span style="font-size:17pt\;">1st</span></span></span></strong>&nbsp\;<strong><span style="border:1pt none windowtext\;padding:0in\;background-image:initial\;background-attachment:initial\;background-size:initial\;background-origin:initial\;background-clip:initial\;background-position:initial\;background-repeat:initial\;"><span style="font-family:cambria\,serif\;"><span style="font-size:17pt\;">&amp\; 2nd</span></span></span></strong>&nbsp\;<strong><span style="border:1pt none windowtext\;padding:0in\;background-image:initial\;background-attachment:initial\;background-size:initial\;background-origin:initial\;background-clip:initial\;background-position:initial\;background-repeat:initial\;"><span style="font-family:cambria\,serif\;"><span style="font-size:17pt\;">YEAR MEMBER POWER LUNCH !!!!</span></span></span></strong><br />\n&nbsp\;<br />\n<strong><span style="color:black\;"><span style="font-family:cambria\,serif\;"><span style="font-size:16.0pt\;">Date:&nbsp\; </span></span></span></strong><span style="font-family:cambria\,serif\;"><span style="font-size:16pt\;">&nbsp\;June 17\, 2016</span></span><br />\n<strong><span style="color:black\;"><span style="font-family:cambria\,serif\;"><span style="font-size:16.0pt\;">Time:</span></span></span></strong><span style="font-family:cambria\,serif\;"><span style="font-size:16pt\;">&nbsp\;&nbsp\; 11:45 AM&nbsp\;-&nbsp\;1:00 PM </span></span><br />\n<strong><span style="color:black\;"><span style="font-family:cambria\,serif\;"><span style="font-size:16.0pt\;">Location:</span></span></span></strong>&nbsp\; <span style="border:1pt none windowtext\;padding:0in\;"><span style="font-family:cambria\,serif\;"><span style="font-size:16pt\;">Apex Suites\,&nbsp\;1000 4th Street\, 8<sup>th</sup> Flr.</span></span></span><br />\n<strong><span style="border:1pt none windowtext\;padding:0in\;"><span style="font-family:cambria\,serif\;"><span style="font-size:16pt\;">Cost:&nbsp\; $20</span></span></span></strong>&nbsp\;&nbsp\;&nbsp\; <strong><em><span style="border:none windowtext 1.0pt\;padding:0in\;"><span style="color:fuchsia\;"><span style="font-family:cambria\,serif\;"><span style="font-size:18.0pt\;">Pre-registration is required</span></span></span></span></em></strong><br />\n<span style="font-family:cambria\,serif\;"><span style="font-size:12.0pt\;">All registration fees for this event are non-refundable due to commitments to our vendors</span></span><br />\n<br />\n<br />\n<strong><em><span style="border:1pt none windowtext\;padding:0in\;background-image:initial\;background-attachment:initial\;background-size:initial\;background-origin:initial\;background-clip:initial\;background-position:initial\;background-repeat:initial\;"><span style="font-family:cambria\,serif\;"><span style="font-size:14pt\;">Guest Speaker:&nbsp\;&nbsp\;&nbsp\; LINDA PALERMO of Sandler Training</span></span></span></em></strong><br />\n<span style="font-family:cambria\,serif\;"><span style="font-size:14pt\;">&nbsp\;<br />\n<strong><span style="border:1pt none windowtext\;padding:0in\;background-image:initial\;background-attachment:initial\;background-size:initial\;background-origin:initial\;background-clip:initial\;background-position:initial\;background-repeat:initial\;">Topic :&nbsp\; Building Your Prospecting Efforts and How LinkedIn Can Help</span></strong><br />\n&nbsp\;<br />\n<span style="border:1pt none windowtext\;padding:0in\;background-image:initial\;background-attachment:initial\;background-size:initial\;background-origin:initial\;background-clip:initial\;background-position:initial\;background-repeat:initial\;">Do you have a prospecting plan in place?&nbsp\; Are you maximizing the use of LinkedIn for prospecting?&nbsp\; &nbsp\;Join Linda Palermo of Sandler Training to learn more about how you can fire up your prospecting efforts.&nbsp\; &nbsp\;Linda is a veteran sales and marketing professional\, speaker\, trainer and coach.&nbsp\; Her experience includes over 20 years in sales and marketing leadership positions in travel technology\, digital marketing and hospitality.&nbsp\;&nbsp\; Sandler Training is the global leader in training with over 250 trainers worldwide.</span></span></span><br />\n&nbsp\;<br />\n<em><span style="border:1pt none windowtext\;padding:0in\;background-image:initial\;background-attachment:initial\;background-size:initial\;background-origin:initial\;background-clip:initial\;background-position:initial\;background-repeat:initial\;"><span style="font-family:cambria\,serif\;"><span style="font-size:14pt\;">This is your opportunity to network with </span></span></span></em><br />\n<em><span style="border:1pt none windowtext\;padding:0in\;background-image:initial\;background-attachment:initial\;background-size:initial\;background-origin:initial\;background-clip:initial\;background-position:initial\;background-repeat:initial\;"><span style="font-family:cambria\,serif\;"><span style="font-size:14pt\;">CHAMBER MEMBERS\, BOARD MEMBERS\, AND AMBASSADORS</span></span></span></em><br />\n&nbsp\;</div>\n
LOCATION:Apex Suites\, 1000 Fourth Street\, Floor 8
UID:e.1344.13367
SEQUENCE:3
DTSTAMP:20260420T223743Z
URL:http://business.srchamber.com/events/details/chamber-ambassador-power-lunch-06-17-2016-13367
END:VEVENT

END:VCALENDAR
