BEGIN:VCALENDAR
VERSION:2.0
PRODID:-//ChamberMaster//Event Calendar 2.0//EN
METHOD:PUBLISH
X-PUBLISHED-TTL:P3D
REFRESH-INTERVAL:P3D
CALSCALE:GREGORIAN
BEGIN:VEVENT
DTSTART:20150822T160000Z
DTEND:20150822T170000Z
X-MICROSOFT-CDO-ALLDAYEVENT:FALSE
SUMMARY:Chamber Adopt a Highway Clean Up - Meet at Chamber parking lot
DESCRIPTION:Help us Keep San Rafael beautiful by taking a little time to help clean the Southbound 101 exit in Downtown San Rafael. We meet at the Chamber parking lot at 8:00 am on the 4th Saturday of every month. It usually takes less than an hour.
X-ALT-DESC;FMTTYPE=text/html:Help us Keep San Rafael beautiful by taking a little time to help clean the Southbound 101 exit in Downtown San Rafael. We meet at the Chamber parking lot at 8:00 am on the 4th Saturday of every month. It usually takes less than an hour.
LOCATION:Meet at the Chamber parking lot at 817 Mission Avenue at 8:00 am. Wear comfy shoes bring a hat\, gloves and water.
UID:e.1344.2841
SEQUENCE:3
DTSTAMP:20260420T224058Z
URL:http://business.srchamber.com/events/details/chamber-adopt-a-highway-clean-up-meet-at-chamber-parking-lot-08-22-2015-2841
END:VEVENT

END:VCALENDAR
